BEGIN:VCALENDAR
VERSION:2.0
PRODID:-//West Nipissing Ouest - ECPv6.15.20//NONSGML v1.0//EN
CALSCALE:GREGORIAN
METHOD:PUBLISH
X-ORIGINAL-URL:https://www.westnipissing.ca
X-WR-CALDESC:Events for West Nipissing Ouest
REFRESH-INTERVAL;VALUE=DURATION:PT1H
X-Robots-Tag:noindex
X-PUBLISHED-TTL:PT1H
BEGIN:VTIMEZONE
TZID:America/Toronto
BEGIN:DAYLIGHT
TZOFFSETFROM:-0500
TZOFFSETTO:-0400
TZNAME:EDT
DTSTART:20250309T070000
END:DAYLIGHT
BEGIN:STANDARD
TZOFFSETFROM:-0400
TZOFFSETTO:-0500
TZNAME:EST
DTSTART:20251102T060000
END:STANDARD
BEGIN:DAYLIGHT
TZOFFSETFROM:-0500
TZOFFSETTO:-0400
TZNAME:EDT
DTSTART:20260308T070000
END:DAYLIGHT
BEGIN:STANDARD
TZOFFSETFROM:-0400
TZOFFSETTO:-0500
TZNAME:EST
DTSTART:20261101T060000
END:STANDARD
BEGIN:DAYLIGHT
TZOFFSETFROM:-0500
TZOFFSETTO:-0400
TZNAME:EDT
DTSTART:20270314T070000
END:DAYLIGHT
BEGIN:STANDARD
TZOFFSETFROM:-0400
TZOFFSETTO:-0500
TZNAME:EST
DTSTART:20271107T060000
END:STANDARD
END:VTIMEZONE
BEGIN:VEVENT
DTSTART;VALUE=DATE:20260417
DTEND;VALUE=DATE:20260418
DTSTAMP:20260421T150823
CREATED:20260306T142038Z
LAST-MODIFIED:20260306T142635Z
UID:10000741-1776384000-1776470399@www.westnipissing.ca
SUMMARY:Buzz Battle Pick Up Hockey Tourney
DESCRIPTION: 4-on-4 Pick-Up Hockey Tournament open to everyone!\nStart building your team\, have fun customizing your jerseys\, and get ready for an action-packed weekend on the ice!\nApril 17th Weekend\n3 games guaranteed ￼\nDivisions: U9–U15\nFull details available in the forms document\nLet’s pack the rink and make it a fun-filled weekend of hockey!\n\n\nBe sure to register your team before it’s too late spots are limited!\nIf you have any questions\, feel free to reach out to chantal.girard@wnmha.com.
URL:https://www.westnipissing.ca/event/buzz-battle-pick-up-hockey-tourney/
LOCATION:Verner Arena\, 80 Principal Street E\, Verner
CATEGORIES:Community
ATTACH;FMTTYPE=image/jpeg:https://www.westnipissing.ca/wp-content/uploads/2026/03/IMG_1688.jpeg
END:VEVENT
BEGIN:VEVENT
DTSTART;TZID=America/Toronto:20260414T180000
DTEND;TZID=America/Toronto:20260414T210000
DTSTAMP:20260421T150823
CREATED:20260331T151621Z
LAST-MODIFIED:20260331T151621Z
UID:10000743-1776189600-1776200400@www.westnipissing.ca
SUMMARY:Public Information Session: Springer Rare Earth Elements & Gallium Deposit Exploration Project
DESCRIPTION:Springer REE & Gallium Deposit Exploration Project (Springer Project) is North America’s 7th largest Rare Earth Deposit located in Springer Township\, approximately 7km north of Sturgeon Falls The Springer Project is accessible from Highway 64 and historic trails connecting the southern limit with Burnt Lake Road and the northern limit with the Hydro One Transmission line corridor. The Springer Project location is presented in this figure. \nThe public information session will provide information related to the past and present exploration program which includes additional diamond drilling\, on-going baseline environmental surveys\, on-going work to evaluate the economics of the mineral deposit and typical steps for companies to develop a mine in Ontario. \nVolta Metals is interested in receiving feedback and sharing information\, interested people should contact: \nKerem Usenmez President & CEO – info@voltametals.ca \nVOLTA Metals Ltd. 2 Craig St. Sturgeon Falls\, ON P2B 3H8\n130 King Street W\, Suite 3680 Toronto\, Ontario Canada M5X 1B1
URL:https://www.westnipissing.ca/event/public-information-session-springer-rare-earth-elements-gallium-deposit-exploration-project/
LOCATION:sports hall of fame\, 210 Clark Street\, Sturgeon Falls\, P1B 1T1\, Canada
CATEGORIES:Community
END:VEVENT
END:VCALENDAR